BEGIN:VCALENDAR
VERSION:2.0
PRODID:-//Hebamme Anne Adelantado - ECPv6.15.17.1//NONSGML v1.0//EN
CALSCALE:GREGORIAN
METHOD:PUBLISH
X-WR-CALNAME:Hebamme Anne Adelantado
X-ORIGINAL-URL:https://www.hebamme-uster.ch
X-WR-CALDESC:Veranstaltungen für Hebamme Anne Adelantado
REFRESH-INTERVAL;VALUE=DURATION:PT1H
X-Robots-Tag:noindex
X-PUBLISHED-TTL:PT1H
BEGIN:VTIMEZONE
TZID:Europe/Zurich
BEGIN:DAYLIGHT
TZOFFSETFROM:+0100
TZOFFSETTO:+0200
TZNAME:CEST
DTSTART:20250330T010000
END:DAYLIGHT
BEGIN:STANDARD
TZOFFSETFROM:+0200
TZOFFSETTO:+0100
TZNAME:CET
DTSTART:20251026T010000
END:STANDARD
BEGIN:DAYLIGHT
TZOFFSETFROM:+0100
TZOFFSETTO:+0200
TZNAME:CEST
DTSTART:20260329T010000
END:DAYLIGHT
BEGIN:STANDARD
TZOFFSETFROM:+0200
TZOFFSETTO:+0100
TZNAME:CET
DTSTART:20261025T010000
END:STANDARD
BEGIN:DAYLIGHT
TZOFFSETFROM:+0100
TZOFFSETTO:+0200
TZNAME:CEST
DTSTART:20270328T010000
END:DAYLIGHT
BEGIN:STANDARD
TZOFFSETFROM:+0200
TZOFFSETTO:+0100
TZNAME:CET
DTSTART:20271031T010000
END:STANDARD
END:VTIMEZONE
BEGIN:VEVENT
DTSTART;TZID=Europe/Zurich:20260513T100000
DTEND;TZID=Europe/Zurich:20260513T110000
DTSTAMP:20260421T141342
CREATED:20251207T102347Z
LAST-MODIFIED:20251207T102347Z
UID:1620-1778666400-1778670000@www.hebamme-uster.ch
SUMMARY:Familientisch/ Brei-Frei/ Baby-led-weaning
DESCRIPTION:  \n  \nBaby-Bar: \nFür Familien mit Babys von 0 – 15 Monaten \nTreffen – Kennenlernen – Austauschen \nThema: Familientisch/ Brei-frei/ Baby-led-weaning \nDie wichtigsten Facts dazu\, um es gleich ganz praktisch anwenden zu können. Auch in punkto Nahrungsaufnahme können wir unsere Kinder in ihrem Selbstwertgefühl und Selbstvertrauen fördern und unterstützen. \nEin Kind zu bekommen ist ein grosser Einschnitt im Leben. Wir wollen uns Austauschen über unsere Erfahrung von der Schwangerschaft\, Geburt und wie ich als Mutter oder Vater in die Elternrolle wachse. Was hilft mir dabei\, wo gibt es Herausforderungen? \nDie Baby-Bar ist ein einladender Treffpunkt für junge Familien\, die sich gegenseitig kennenlernen und über die besonderen Bedürfnisse von Eltern mit Säuglingen austauschen möchten. \nNutzen Sie diese Gelegenheit\, um neue Freundschaften zu schließen und sich in dieser aufregenden Zeit gegenseitig zu unterstützen! \n  \nIt is a welcoming gathering place for young families who want to connect with one another and dicuss the unique needs of parents with infants. Each meeting begins with a group discussion on \nvarios topics\, allowing parents to engage in conversation while their children play on a large mat. \nThe Baby-Bar provides a wonderful opportunity to share experiences and build new friendships in a  \nsupportive environment. \nAll cultures and languages are welcome! \n  \nMittwoch 10:00-11:00 Uhr ohne Voranmeldung \nIm Familienzentrum Uster Zentralstrasse 32\, 8610 Uster \nLeitung Anne Adelantado\, Dipl. Hebamme \nKontakt: 076 765 48 90 / anne@hebamme-uster.ch \nKosten 5 CHF pro Familie \n  \n  \n  \n 
URL:https://www.hebamme-uster.ch/anlass/baby-bar-2026-05-13/
LOCATION:Familienzentrum Uster\, Zentralstrasse 32\, Uster\, 8610
CATEGORIES:Baby-Bar,Brei-Frei Ernährung
ATTACH;FMTTYPE=image/jpeg:https://www.hebamme-uster.ch/wp-content/uploads/2019/03/baby-84686__480.jpg
END:VEVENT
BEGIN:VEVENT
DTSTART;TZID=Europe/Zurich:20260527T100000
DTEND;TZID=Europe/Zurich:20260527T110000
DTSTAMP:20260421T141342
CREATED:20251207T101505Z
LAST-MODIFIED:20251207T101505Z
UID:1613-1779876000-1779879600@www.hebamme-uster.ch
SUMMARY:Sommer Sonne Ferienzeit
DESCRIPTION:  \n  \nBaby-Bar: \nFür Familien mit Babys von 0 – 15 Monaten \nTreffen – Kennenlernen – Austauschen \nThema: Sommerzeit- Ferienzeit \nUmgang mit Sonne und Hitze bei Babys. \nEs gibt Infos und Tipps und ich freue mich über einen Erfahrungsaustausch mit euch. \n  \nDie Baby-Bar ist ein einladender Treffpunkt für junge Familien\, die sich gegenseitig kennenlernen und über die besonderen Bedürfnisse von Eltern mit Säuglingen austauschen möchten. \nNutze diese Gelegenheit\, um neue Freundschaften zu schließen und sich in dieser aufregenden Zeit gegenseitig zu unterstützen! \n  \nIt is a welcoming gathering place for young families who want to connect with one another and dicuss the unique needs of parents with infants. Each meeting begins with a group discussion on \nvarios topics\, allowing parents to engage in conversation while their children play on a large mat. \nThe Baby-Bar provides a wonderful opportunity to share experiences and build new friendships in a  \nsupportive environment. \nAll cultures and languages are welcome! \n  \nMittwoch 10:00-11:00 Uhr ohne Voranmeldung \nIm Familienzentrum Uster Zentralstrasse 32\, 8610 Uster \nLeitung Anne Adelantado\, Dipl. Hebamme \nKontakt: 076 765 48 90 / anne@hebamme-uster.ch \nKosten 5 CHF pro Familie \n  \n  \n  \n 
URL:https://www.hebamme-uster.ch/anlass/baby-bar-2026-05-27/
LOCATION:Familienzentrum Uster\, Zentralstrasse 32\, Uster\, 8610
CATEGORIES:Baby-Bar,Brei-Frei Ernährung
ATTACH;FMTTYPE=image/jpeg:https://www.hebamme-uster.ch/wp-content/uploads/2025/10/20251022_110301fuer-Melanie-Kopie-klein.jpg
END:VEVENT
BEGIN:VEVENT
DTSTART;TZID=Europe/Zurich:20260610T100000
DTEND;TZID=Europe/Zurich:20260610T110000
DTSTAMP:20260421T141342
CREATED:20251207T102622Z
LAST-MODIFIED:20251207T102858Z
UID:1622-1781085600-1781089200@www.hebamme-uster.ch
SUMMARY:die kindliche Schlafentwicklung
DESCRIPTION:  \n  \nBaby-Bar: \nFür Familien mit Babys von 0 – 15 Monaten \nTreffen – Kennenlernen – Austauschen \nThema: die kindliche Schlafentwicklung \nWie lernt ein Kind schlafen- und muss es das überhaupt? Was sind die Bedürfnisse von unseren Babys und was sind unsere eigenen in Bezug auf Schlaf? Wie können wir diese Bedürfnisse in einer beziehungsorientierten Umgebung unterstützen? \nEin Kind zu bekommen ist ein grosser Einschnitt im Leben. Wir wollen uns Austauschen über unsere Erfahrung von der Schwangerschaft\, Geburt und wie ich als Mutter oder Vater in die Elternrolle wachse. Was hilft mir dabei\, wo gibt es Herausforderungen? \nDie Baby-Bar ist ein einladender Treffpunkt für junge Familien\, die sich gegenseitig kennenlernen und über die besonderen Bedürfnisse von Eltern mit Säuglingen austauschen möchten. \nNutzen Sie diese Gelegenheit\, um neue Freundschaften zu schließen und sich in dieser aufregenden Zeit gegenseitig zu unterstützen! \n  \nIt is a welcoming gathering place for young families who want to connect with one another and dicuss the unique needs of parents with infants. Each meeting begins with a group discussion on \nvarios topics\, allowing parents to engage in conversation while their children play on a large mat. \nThe Baby-Bar provides a wonderful opportunity to share experiences and build new friendships in a  \nsupportive environment. \nAll cultures and languages are welcome! \n  \nMittwoch 10:00-11:00 Uhr ohne Voranmeldung \nIm Familienzentrum Uster Zentralstrasse 32\, 8610 Uster \nLeitung Anne Adelantado\, Dipl. Hebamme \nKontakt: 076 765 48 90 / anne@hebamme-uster.ch \nKosten 5 CHF pro Familie \n  \n  \n  \n 
URL:https://www.hebamme-uster.ch/anlass/baby-bar-2026-06-10/
LOCATION:Familienzentrum Uster\, Zentralstrasse 32\, Uster\, 8610
CATEGORIES:Baby-Bar,Brei-Frei Ernährung
ATTACH;FMTTYPE=image/jpeg:https://www.hebamme-uster.ch/wp-content/uploads/2020/01/man-person-cute-young-Vater-schläft-mit-Baby.jpg
END:VEVENT
BEGIN:VEVENT
DTSTART;TZID=Europe/Zurich:20260624T100000
DTEND;TZID=Europe/Zurich:20260624T110000
DTSTAMP:20260421T141342
CREATED:20251207T102117Z
LAST-MODIFIED:20251207T102117Z
UID:1618-1782295200-1782298800@www.hebamme-uster.ch
SUMMARY:im Balanceakt zwischen den Bedürfnissen meines Babys und meinen eigenen Bedürfnissen
DESCRIPTION:  \n  \nBaby-Bar: \nFür Familien mit Babys von 0 – 15 Monaten \nTreffen – Kennenlernen – Austauschen \nThema: im Balanceakt zwischen den Bedürfnissen meines Babys und meinen eigenen Bedürfnissen \nWas sind die Grundbedürfnisse von Kindern? Klar wollen wir unser Bestes geben um unsere Babys zu beschützen\, sie mit Liebe zu überwerfen und sie in ihren Fähigkeiten zu unterstützen. Dabei stossen wir oft an unsere eigenen Grenzen und haben doch ein schlechtes Gewissen nicht alles gegeben zu haben.  \nEin Kind zu bekommen ist ein grosser Einschnitt im Leben. Wir wollen uns Austauschen über unsere Erfahrung von der Schwangerschaft\, Geburt und wie ich als Mutter oder Vater in die Elternrolle wachse. Was hilft mir dabei\, wo gibt es Herausforderungen? \nDie Baby-Bar ist ein einladender Treffpunkt für junge Familien\, die sich gegenseitig kennenlernen und über die besonderen Bedürfnisse von Eltern mit Säuglingen austauschen möchten. \nNutzen Sie diese Gelegenheit\, um neue Freundschaften zu schließen und sich in dieser aufregenden Zeit gegenseitig zu unterstützen! \n  \nIt is a welcoming gathering place for young families who want to connect with one another and dicuss the unique needs of parents with infants. Each meeting begins with a group discussion on \nvarios topics\, allowing parents to engage in conversation while their children play on a large mat. \nThe Baby-Bar provides a wonderful opportunity to share experiences and build new friendships in a  \nsupportive environment. \nAll cultures and languages are welcome! \n  \nMittwoch 10:00-11:00 Uhr ohne Voranmeldung \nIm Familienzentrum Uster Zentralstrasse 32\, 8610 Uster \nLeitung Anne Adelantado\, Dipl. Hebamme \nKontakt: 076 765 48 90 / anne@hebamme-uster.ch \nKosten 5 CHF pro Familie \n  \n  \n  \n 
URL:https://www.hebamme-uster.ch/anlass/baby-bar-2026-06-24/
LOCATION:Familienzentrum Uster\, Zentralstrasse 32\, Uster\, 8610
CATEGORIES:Baby-Bar,Brei-Frei Ernährung
ATTACH;FMTTYPE=image/jpeg:https://www.hebamme-uster.ch/wp-content/uploads/2025/10/20251022_110301fuer-Melanie-Kopie-klein.jpg
END:VEVENT
BEGIN:VEVENT
DTSTART;TZID=Europe/Zurich:20260708T100000
DTEND;TZID=Europe/Zurich:20260708T110000
DTSTAMP:20260421T141342
CREATED:20251207T101859Z
LAST-MODIFIED:20251207T101859Z
UID:1615-1783504800-1783508400@www.hebamme-uster.ch
SUMMARY:Fremdbetreuung/ Krippeneinführung
DESCRIPTION:  \n  \nBaby-Bar: \nFür Familien mit Babys von 0 – 15 Monaten \nTreffen – Kennenlernen – Austauschen \nThema: Fremdbetreuung/ Krippeneinführung \nFrüher oder später begegnet dieses Thema allen\, die kleine Kinder haben. Ich freue mich auf einen guten Austausch darüber was für Kriterien es gibt um eine gute Betreuung auszuwählen\, wie man die Einführung gut Begleiten kann und weiter Punkte rum ums Thema. \nEin Kind zu bekommen ist ein grosser Einschnitt im Leben. Wir wollen uns Austauschen über unsere Erfahrung von der Schwangerschaft\, Geburt und wie ich als Mutter oder Vater in die Elternrolle wachse. Was hilft mir dabei\, wo gibt es Herausforderungen? \nDie Baby-Bar ist ein einladender Treffpunkt für junge Familien\, die sich gegenseitig kennenlernen und über die besonderen Bedürfnisse von Eltern mit Säuglingen austauschen möchten. \nNutzen Sie diese Gelegenheit\, um neue Freundschaften zu schließen und sich in dieser aufregenden Zeit gegenseitig zu unterstützen! \n  \nIt is a welcoming gathering place for young families who want to connect with one another and dicuss the unique needs of parents with infants. Each meeting begins with a group discussion on \nvarios topics\, allowing parents to engage in conversation while their children play on a large mat. \nThe Baby-Bar provides a wonderful opportunity to share experiences and build new friendships in a  \nsupportive environment. \nAll cultures and languages are welcome! \n  \nMittwoch 10:00-11:00 Uhr ohne Voranmeldung \nIm Familienzentrum Uster Zentralstrasse 32\, 8610 Uster \nLeitung Anne Adelantado\, Dipl. Hebamme \nKontakt: 076 765 48 90 / anne@hebamme-uster.ch \nKosten 5 CHF pro Familie \n  \n  \n  \n 
URL:https://www.hebamme-uster.ch/anlass/baby-bar-2026-07-08/
LOCATION:Familienzentrum Uster\, Zentralstrasse 32\, Uster\, 8610
CATEGORIES:Baby-Bar,Brei-Frei Ernährung
ATTACH;FMTTYPE=image/jpeg:https://www.hebamme-uster.ch/wp-content/uploads/2025/10/20251022_110301fuer-Melanie-Kopie-klein.jpg
END:VEVENT
END:VCALENDAR